BEGIN:VCALENDAR
VERSION:2.0
X-WR-CALNAME:EventsCalendar
CALSCALE:GREGORIAN
BEGIN:VTIMEZONE
TZID:America/Chicago
LAST-MODIFIED:20231222T233358Z
TZURL:https://www.tzurl.org/zoneinfo-outlook/America/Chicago
X-LIC-LOCATION:America/Chicago
BEGIN:DAYLIGHT
TZNAME:CDT
TZOFFSETFROM:-0600
TZOFFSETTO:-0500
DTSTART:19700308T020000
RRULE:FREQ=YEARLY;BYMONTH=3;BYDAY=2SU
END:DAYLIGHT
BEGIN:STANDARD
TZNAME:CST
TZOFFSETFROM:-0500
TZOFFSETTO:-0600
DTSTART:19701101T020000
RRULE:FREQ=YEARLY;BYMONTH=11;BYDAY=1SU
END:STANDARD
END:VTIMEZONE
BEGIN:VEVENT
CATEGORIES:Category,Community,Academic Year,2024-25,Term,Spring,Part of Term,10 – Week Session
DESCRIPTION:Classes Begin and Last Day of Registration - 10 Week Spring Term Classes13667
DTSTAMP:20260421T060420
DTSTART;TZID=America/Chicago:20250224T000000
DTEND;TZID=America/Chicago:20250224T235900
LOCATION:
SUMMARY;LANGUAGE=en-us:Classes Begin and Last Day of Registration - 10 Week Spring Term Classes
UID:7a8e23ec1c6e5a954369d8b00e921376@jscc.edu
END:VEVENT
END:VCALENDAR





