BEGIN:VCALENDAR
VERSION:2.0
X-WR-CALNAME:EventsCalendar
CALSCALE:GREGORIAN
BEGIN:VTIMEZONE
TZID:America/Chicago
LAST-MODIFIED:20231222T233358Z
TZURL:https://www.tzurl.org/zoneinfo-outlook/America/Chicago
X-LIC-LOCATION:America/Chicago
BEGIN:DAYLIGHT
TZNAME:CDT
TZOFFSETFROM:-0600
TZOFFSETTO:-0500
DTSTART:19700308T020000
RRULE:FREQ=YEARLY;BYMONTH=3;BYDAY=2SU
END:DAYLIGHT
BEGIN:STANDARD
TZNAME:CST
TZOFFSETFROM:-0500
TZOFFSETTO:-0600
DTSTART:19701101T020000
RRULE:FREQ=YEARLY;BYMONTH=11;BYDAY=1SU
END:STANDARD
END:VTIMEZONE
BEGIN:VEVENT
CATEGORIES:Category,Community,Academic Year,2024-25,Term,Summer,Term,Maymester
DESCRIPTION:Classes Begin and Last Day of Registration - Maymester Term Classes13673
DTSTAMP:20260422T061313
DTSTART;TZID=America/Chicago:20250512T000000
DTEND;TZID=America/Chicago:20250512T235900
LOCATION:
SUMMARY;LANGUAGE=en-us:Classes Begin and Last Day of Registration - Maymester Term Classes
UID:b8931d2218197c49186072cc94fcc5b2@jscc.edu
END:VEVENT
END:VCALENDAR





