BEGIN:VCALENDAR
VERSION:2.0
X-WR-CALNAME:EventsCalendar
CALSCALE:GREGORIAN
BEGIN:VTIMEZONE
TZID:America/Chicago
LAST-MODIFIED:20231222T233358Z
TZURL:https://www.tzurl.org/zoneinfo-outlook/America/Chicago
X-LIC-LOCATION:America/Chicago
BEGIN:DAYLIGHT
TZNAME:CDT
TZOFFSETFROM:-0600
TZOFFSETTO:-0500
DTSTART:19700308T020000
RRULE:FREQ=YEARLY;BYMONTH=3;BYDAY=2SU
END:DAYLIGHT
BEGIN:STANDARD
TZNAME:CST
TZOFFSETFROM:-0500
TZOFFSETTO:-0600
DTSTART:19701101T020000
RRULE:FREQ=YEARLY;BYMONTH=11;BYDAY=1SU
END:STANDARD
END:VTIMEZONE
BEGIN:VEVENT
CATEGORIES:Category,Community,Category,Green Jay Nation
DESCRIPTION:JSCC Home Basketball Game &amp;ndash; Holiday Game &amp;ndash; Green Jays vs. SW Tenn. State16305
DTSTAMP:20260421T172126
DTSTART;TZID=America/Chicago:20241204T170000
DTEND;TZID=America/Chicago:20241204T190000
LOCATION:
SUMMARY;LANGUAGE=en-us:JSCC Home Basketball Game - Holiday Game - Green Jays vs. SW Tenn. State
UID:03dff049fd4aaad842d56c9189b349eb@jscc.edu
END:VEVENT
END:VCALENDAR





